Workbook
Name SupportMiniAges: 'Support Data'!$B$2:$B$9
Name SupportMiniSecond: 'Support Data'!$H$4:$I$45
Name SupportMiniTrad: 'Support Data'!$J$4:$P$45
Name SupportQualAges: 'Support Data'!$D$63:$D$87
Name SupportQualTypes: 'Support Data'!$H$58:$I$99
Name SupportTeamsList: 'Support Data'!$E$115:$E$134

Sheet Overall Sheet
A1: Oireachtas Rince Lar na Breataine 2026
A2: Entry Form
A8: Any queries contact midlands.oireachtas@gmail.com
A9: 1- Fill out each page of the form if required
A10: 2- Make sure payment matches up
A11: 3- Save Excel spreadsheet as School name
A12: 4- Make payment to MRC Bank Account Sort Code: 30-97-17 Account No: 01833441 (Please use School Name as Reference)
A13: 5- Send Entry Form to: midlands.oireachtas@gmail.com
A14: 6- All entries must be received with proof of payment by: 25th Ocotober 2026
A15: 7- Please tick if a dancer is a world medal holder or has qualified at the 2026 Scottish Nationals
A16: School Name:
A17: Teacher Name:
... A19: E-Mail
A20: Total Mini's to Under 9 | C20: ='Mini''s to Under 9'!G46 -> 0
A21: Total Qualfying Age Groups | C21: ='Qualifying Ages'!J46 -> 0
A22: Total Ceili | C22: =Teams!D31 -> 0
A23: TOTAL ENTRY PAYABLE | C23: =SUM(C20:C22) -> 0

Sheet Mini's to Under 9
A1: MINI'S TO UNDER 9 ENTRY FORM
A2: 1. Enter each competitor’s name. 2. Select the correct options from each drop-down list — fees calculate automatically. 3. Family fee: choose “Apply” for the first child and “Already Applied” for each brother or sister.
A3: Competitor Name | B3: Competition / Age Group | C3: Round 1 | D3: Round 2 | E3: Traditional Set | F3: Fees | G3: Apply Family Fee
F7: =IF(G7="Apply",160,IF(G7="Already Applied",0,IF(B7="","",IFERROR(VLOOKUP(B7,'Support Data'!$B$2:$D$9,3,FALSE),""))))
F8: =IF(G8="Apply",160,IF(G8="Already Applied",0,IF(B8="","",IFERROR(VLOOKUP(B8,'Support Data'!$B$2:$D$9,3,FALSE),""))))
F9: =IF(G9="Apply",160,IF(G9="Already Applied",0,IF(B9="","",IFERROR(VLOOKUP(B9,'Support Data'!$B$2:$D$9,3,FALSE),""))))
F10: =IF(G10="Apply",160,IF(G10="Already Applied",0,IF(B10="","",IFERROR(VLOOKUP(B10,'Support Data'!$B$2:$D$9,3,FALSE),""))))
F11: =IF(G11="Apply",160,IF(G11="Already Applied",0,IF(B11="","",IFERROR(VLOOKUP(B11,'Support Data'!$B$2:$D$9,3,FALSE),""))))
F12: =IF(G12="Apply",160,IF(G12="Already Applied",0,IF(B12="","",IFERROR(VLOOKUP(B12,'Support Data'!$B$2:$D$9,3,FALSE),""))))
F13: =IF(G13="Apply",160,IF(G13="Already Applied",0,IF(B13="","",IFERROR(VLOOKUP(B13,'Support Data'!$B$2:$D$9,3,FALSE),""))))
F14: =IF(G14="Apply",160,IF(G14="Already Applied",0,IF(B14="","",IFERROR(VLOOKUP(B14,'Support Data'!$B$2:$D$9,3,FALSE),""))))
F15: =IF(G15="Apply",160,IF(G15="Already Applied",0,IF(B15="","",IFERROR(VLOOKUP(B15,'Support Data'!$B$2:$D$9,3,FALSE),""))))
F16: =IF(G16="Apply",160,IF(G16="Already Applied",0,IF(B16="","",IFERROR(VLOOKUP(B16,'Support Data'!$B$2:$D$9,3,FALSE),""))))
F17: =IF(G17="Apply",160,IF(G17="Already Applied",0,IF(B17="","",IFERROR(VLOOKUP(B17,'Support Data'!$B$2:$D$9,3,FALSE),""))))
F18: =IF(G18="Apply",160,IF(G18="Already Applied",0,IF(B18="","",IFERROR(VLOOKUP(B18,'Support Data'!$B$2:$D$9,3,FALSE),""))))
... F45: =IF(G45="Apply",160,IF(G45="Already Applied",0,IF(B45="","",IFERROR(VLOOKUP(B45,'Support Data'!$B$2:$D$9,3,FALSE),""))))
F46: SUBTOTAL | G46: =SUM(F4:F45) -> 0

Sheet Qualifying Ages
A1: QUALIFYING AGE GROUPS ENTRY FORM
A2: 1. Enter each competitor’s name. 2. Select the correct options from each drop-down list — fees calculate automatically. 3. Family fee: choose “Apply” for the first child and “Already Applied” for each brother or sister.
A3: Competitor Name | B3: Competition / Age Group | C3: Championship/Prelim | D3: Round 1 | E3: Round 2 | F3: Set | G3: Speed | H3: WQ/WMH | I3: Fees | J3: Apply Family Fee
I4: =IF(J4="Apply",160,IF(J4="Already Applied",0,IF(B4<>"",'Support Data'!$B$63,"")))
I5: =IF(J5="Apply",160,IF(J5="Already Applied",0,IF(B5<>"",'Support Data'!$B$63,"")))
I6: =IF(J6="Apply",160,IF(J6="Already Applied",0,IF(B6<>"",'Support Data'!$B$63,"")))
I7: =IF(J7="Apply",160,IF(J7="Already Applied",0,IF(B7<>"",'Support Data'!$B$63,"")))
I8: =IF(J8="Apply",160,IF(J8="Already Applied",0,IF(B8<>"",'Support Data'!$B$63,"")))
I9: =IF(J9="Apply",160,IF(J9="Already Applied",0,IF(B9<>"",'Support Data'!$B$63,"")))
I10: =IF(J10="Apply",160,IF(J10="Already Applied",0,IF(B10<>"",'Support Data'!$B$63,"")))
I11: =IF(J11="Apply",160,IF(J11="Already Applied",0,IF(B11<>"",'Support Data'!$B$63,"")))
I12: =IF(J12="Apply",160,IF(J12="Already Applied",0,IF(B12<>"",'Support Data'!$B$63,"")))
I13: =IF(J13="Apply",160,IF(J13="Already Applied",0,IF(B13<>"",'Support Data'!$B$63,"")))
I14: =IF(J14="Apply",160,IF(J14="Already Applied",0,IF(B14<>"",'Support Data'!$B$63,"")))
I15: =IF(J15="Apply",160,IF(J15="Already Applied",0,IF(B15<>"",'Support Data'!$B$63,"")))
... I45: =IF(J45="Apply",160,IF(J45="Already Applied",0,IF(B45<>"",'Support Data'!$B$63,"")))
I46: SUBTOTAL | J46: =SUM(I4:I45) -> 0

Sheet Teams
A1: TEAMS ENTRY FORM
A2: 1. Select the championship from the drop-down list. 2. Enter the team category (A, B or C). 3. Enter any family-fee deductions — the total fee calculates automatically.
A3: Championship | B3: Team A, B, C | C3: Family Fees Deducted | D3: Fees
D4: =IF(A4="","",IFERROR(VLOOKUP(A4,'Support Data'!$B$115:$D$138,3,FALSE)-IF(C4="",0,VALUE(SUBSTITUTE(C4,"£",""))),""))
D5: =IF(A5="","",IFERROR(VLOOKUP(A5,'Support Data'!$B$115:$D$138,3,FALSE)-IF(C5="",0,VALUE(SUBSTITUTE(C5,"£",""))),""))
D6: =IF(A6="","",IFERROR(VLOOKUP(A6,'Support Data'!$B$115:$D$138,3,FALSE)-IF(C6="",0,VALUE(SUBSTITUTE(C6,"£",""))),""))
D7: =IF(A7="","",IFERROR(VLOOKUP(A7,'Support Data'!$B$115:$D$138,3,FALSE)-IF(C7="",0,VALUE(SUBSTITUTE(C7,"£",""))),""))
D8: =IF(A8="","",IFERROR(VLOOKUP(A8,'Support Data'!$B$115:$D$138,3,FALSE)-IF(C8="",0,VALUE(SUBSTITUTE(C8,"£",""))),""))
D9: =IF(A9="","",IFERROR(VLOOKUP(A9,'Support Data'!$B$115:$D$138,3,FALSE)-IF(C9="",0,VALUE(SUBSTITUTE(C9,"£",""))),""))
D10: =IF(A10="","",IFERROR(VLOOKUP(A10,'Support Data'!$B$115:$D$138,3,FALSE)-IF(C10="",0,VALUE(SUBSTITUTE(C10,"£",""))),""))
D11: =IF(A11="","",IFERROR(VLOOKUP(A11,'Support Data'!$B$115:$D$138,3,FALSE)-IF(C11="",0,VALUE(SUBSTITUTE(C11,"£",""))),""))
D12: =IF(A12="","",IFERROR(VLOOKUP(A12,'Support Data'!$B$115:$D$138,3,FALSE)-IF(C12="",0,VALUE(SUBSTITUTE(C12,"£",""))),""))
D13: =IF(A13="","",IFERROR(VLOOKUP(A13,'Support Data'!$B$115:$D$138,3,FALSE)-IF(C13="",0,VALUE(SUBSTITUTE(C13,"£",""))),""))
D14: =IF(A14="","",IFERROR(VLOOKUP(A14,'Support Data'!$B$115:$D$138,3,FALSE)-IF(C14="",0,VALUE(SUBSTITUTE(C14,"£",""))),""))
D15: =IF(A15="","",IFERROR(VLOOKUP(A15,'Support Data'!$B$115:$D$138,3,FALSE)-IF(C15="",0,VALUE(SUBSTITUTE(C15,"£",""))),""))
... D30: =IF(A30="","",IFERROR(VLOOKUP(A30,'Support Data'!$B$115:$D$138,3,FALSE)-IF(C30="",0,VALUE(SUBSTITUTE(C30,"£",""))),""))
C31: SUBTOTAL | D31: =SUM(D4:D30) -> 0

Sheet Support Data
B1: Age Group | C1: COMP No. | D1: Price | E1: Year of Birth | F1: Dances Required | R1: Protected support data for entry-form calculations and drop-downs
B2: Minis | C2: 1 | D2: 20 | F2: Reel 16 Bars at speed 124
A3: Under 5 Mixed Solo Championship | B3: Under 5 Mixed Championship | C3: 2 | D3: 40 | E3: 2020 | F3: Reel & Hop Jig | G3: Reel Option | H3: Second 1 | I3: Second 2 | J3: Trad 1 | K3: Trad 2 | L3: Trad 3 | M3: Trad 4 | N3: Trad 5 | O3: Trad 6 | P3: Trad 7
A4: Under 6 Girls Solo Championship | B4: Under 6 Girls Championship | C4: 3 | D4: 40 | E4: 2019 | F4: Reel & Hop Jig or Light Jig | G4: =IFERROR(IF(VLOOKUP('Mini''s to Under 9'!$B4,$B$2:$C$9,2,FALSE)<>"","Reel",""),"") | H4: =IFERROR(IF(VLOOKUP('Mini''s to Under 9'!$B4,$B$2:$C$9,2,FALSE)=1,"",IF(VLOOKUP('Mini''s to Under 9'!$B4,$B$2:$C$9,2,FALSE)<=5,"Hop Jig","Heavy Jig")),"") | I4: =IFERROR(IF(AND(VLOOKUP('Mini''s to Under 9'!$B4,$B$2:$C$9,2,FALSE)>=3,VLOOKUP('Mini''s to Under 9'!$B4,$B$2:$C$9,2,FALSE)<=5),"Light Jig",""),"") | J4: =IFERROR(IF(VLOOKUP('Mini''s to Under 9'!$B4,$B$2:$C$9,2,FALSE)>=6,$B$1,""),"") | K4: =IFERROR(IF(VLOOKUP('Mini''s to Under 9'!$B4,$B$2:$C$9,2,FALSE)>=6,$B$1,""),"") | L4: =IFERROR(IF(VLOOKUP('Mini''s to Under 9'!$B4,$B$2:$C$9,2,FALSE)>=6,$B$1,""),"") | M4: =IFERROR(IF(VLOOKUP('Mini''s to Under 9'!$B4,$B$2:$C$9,2,FALSE)>=6,$B$1,""),"") | N4: =IFERROR(IF(VLOOKUP('Mini''s to Under 9'!$B4,$B$2:$C$9,2,FALSE)>=6,$B$1,""),"") | O4: =IFERROR(IF(VLOOKUP('Mini''s to Under 9'!$B4,$B$2:$C$9,2,FALSE)>=6,$B$1,""),"") | P4: =IFERROR(IF(VLOOKUP('Mini''s to Under 9'!$B4,$B$2:$C$9,2,FALSE)>=6,$B$1,""),"")
A5: Under 7 Girls Solo Championship | B5: Under 7 Girls Championship | C5: 4 | D5: 40 | E5: 2018 | F5: Reel & Hop Jig or Light Jig | G5: =IFERROR(IF(VLOOKUP('Mini''s to Under 9'!$B5,$B$2:$C$9,2,FALSE)<>"","Reel",""),"") | H5: =IFERROR(IF(VLOOKUP('Mini''s to Under 9'!$B5,$B$2:$C$9,2,FALSE)=1,"",IF(VLOOKUP('Mini''s to Under 9'!$B5,$B$2:$C$9,2,FALSE)<=5,"Hop Jig","Heavy Jig")),"") | I5: =IFERROR(IF(AND(VLOOKUP('Mini''s to Under 9'!$B5,$B$2:$C$9,2,FALSE)>=3,VLOOKUP('Mini''s to Under 9'!$B5,$B$2:$C$9,2,FALSE)<=5),"Light Jig",""),"") | J5: =IFERROR(IF(VLOOKUP('Mini''s to Under 9'!$B5,$B$2:$C$9,2,FALSE)>=6,$B$1,""),"") | K5: =IFERROR(IF(VLOOKUP('Mini''s to Under 9'!$B5,$B$2:$C$9,2,FALSE)>=6,$B$1,""),"") | L5: =IFERROR(IF(VLOOKUP('Mini''s to Under 9'!$B5,$B$2:$C$9,2,FALSE)>=6,$B$1,""),"") | M5: =IFERROR(IF(VLOOKUP('Mini''s to Under 9'!$B5,$B$2:$C$9,2,FALSE)>=6,$B$1,""),"") | N5: =IFERROR(IF(VLOOKUP('Mini''s to Under 9'!$B5,$B$2:$C$9,2,FALSE)>=6,$B$1,""),"") | O5: =IFERROR(IF(VLOOKUP('Mini''s to Under 9'!$B5,$B$2:$C$9,2,FALSE)>=6,$B$1,""),"") | P5: =IFERROR(IF(VLOOKUP('Mini''s to Under 9'!$B5,$B$2:$C$9,2,FALSE)>=6,$B$1,""),"")
A6: Under 7 Boys Solo Championship | B6: Under 7 Boys Championship | C6: 5 | D6: 40 | E6: 2018 or later | F6: Reel & Hop Jig or Light Jig | G6: =IFERROR(IF(VLOOKUP('Mini''s to Under 9'!$B6,$B$2:$C$9,2,FALSE)<>"","Reel",""),"") | H6: =IFERROR(IF(VLOOKUP('Mini''s to Under 9'!$B6,$B$2:$C$9,2,FALSE)=1,"",IF(VLOOKUP('Mini''s to Under 9'!$B6,$B$2:$C$9,2,FALSE)<=5,"Hop Jig","Heavy Jig")),"") | I6: =IFERROR(IF(AND(VLOOKUP('Mini''s to Under 9'!$B6,$B$2:$C$9,2,FALSE)>=3,VLOOKUP('Mini''s to Under 9'!$B6,$B$2:$C$9,2,FALSE)<=5),"Light Jig",""),"") | J6: =IFERROR(IF(VLOOKUP('Mini''s to Under 9'!$B6,$B$2:$C$9,2,FALSE)>=6,$B$1,""),"") | K6: =IFERROR(IF(VLOOKUP('Mini''s to Under 9'!$B6,$B$2:$C$9,2,FALSE)>=6,$B$1,""),"") | L6: =IFERROR(IF(VLOOKUP('Mini''s to Under 9'!$B6,$B$2:$C$9,2,FALSE)>=6,$B$1,""),"") | M6: =IFERROR(IF(VLOOKUP('Mini''s to Under 9'!$B6,$B$2:$C$9,2,FALSE)>=6,$B$1,""),"") | N6: =IFERROR(IF(VLOOKUP('Mini''s to Under 9'!$B6,$B$2:$C$9,2,FALSE)>=6,$B$1,""),"") | O6: =IFERROR(IF(VLOOKUP('Mini''s to Under 9'!$B6,$B$2:$C$9,2,FALSE)>=6,$B$1,""),"") | P6: =IFERROR(IF(VLOOKUP('Mini''s to Under 9'!$B6,$B$2:$C$9,2,FALSE)>=6,$B$1,""),"")
A7: Under 8 Girls Solo Championship | B7: Under 8 Girls Championship | C7: 6 | D7: 60 | E7: 2017 | F7: Reel, Heavy Jig & Traditional Set Dance | G7: =IFERROR(IF(VLOOKUP('Mini''s to Under 9'!$B7,$B$2:$C$9,2,FALSE)<>"","Reel",""),"") | H7: =IFERROR(IF(VLOOKUP('Mini''s to Under 9'!$B7,$B$2:$C$9,2,FALSE)=1,"",IF(VLOOKUP('Mini''s to Under 9'!$B7,$B$2:$C$9,2,FALSE)<=5,"Hop Jig","Heavy Jig")),"") | I7: =IFERROR(IF(AND(VLOOKUP('Mini''s to Under 9'!$B7,$B$2:$C$9,2,FALSE)>=3,VLOOKUP('Mini''s to Under 9'!$B7,$B$2:$C$9,2,FALSE)<=5),"Light Jig",""),"") | J7: =IFERROR(IF(VLOOKUP('Mini''s to Under 9'!$B7,$B$2:$C$9,2,FALSE)>=6,$B$1,""),"") | K7: =IFERROR(IF(VLOOKUP('Mini''s to Under 9'!$B7,$B$2:$C$9,2,FALSE)>=6,$B$1,""),"") | L7: =IFERROR(IF(VLOOKUP('Mini''s to Under 9'!$B7,$B$2:$C$9,2,FALSE)>=6,$B$1,""),"") | M7: =IFERROR(IF(VLOOKUP('Mini''s to Under 9'!$B7,$B$2:$C$9,2,FALSE)>=6,$B$1,""),"") | N7: =IFERROR(IF(VLOOKUP('Mini''s to Under 9'!$B7,$B$2:$C$9,2,FALSE)>=6,$B$1,""),"") | O7: =IFERROR(IF(VLOOKUP('Mini''s to Under 9'!$B7,$B$2:$C$9,2,FALSE)>=6,$B$1,""),"") | P7: =IFERROR(IF(VLOOKUP('Mini''s to Under 9'!$B7,$B$2:$C$9,2,FALSE)>=6,$B$1,""),"")
A8: Under 9 Girls Solo Championship | B8: Under 9 Girls Championship | C8: 7 | D8: 60 | E8: 2016 | F8: Reel, Heavy Jig & Traditional Set Dance | G8: =IFERROR(IF(VLOOKUP('Mini''s to Under 9'!$B8,$B$2:$C$9,2,FALSE)<>"","Reel",""),"") | H8: =IFERROR(IF(VLOOKUP('Mini''s to Under 9'!$B8,$B$2:$C$9,2,FALSE)=1,"",IF(VLOOKUP('Mini''s to Under 9'!$B8,$B$2:$C$9,2,FALSE)<=5,"Hop Jig","Heavy Jig")),"") | I8: =IFERROR(IF(AND(VLOOKUP('Mini''s to Under 9'!$B8,$B$2:$C$9,2,FALSE)>=3,VLOOKUP('Mini''s to Under 9'!$B8,$B$2:$C$9,2,FALSE)<=5),"Light Jig",""),"") | J8: =IFERROR(IF(VLOOKUP('Mini''s to Under 9'!$B8,$B$2:$C$9,2,FALSE)>=6,$B$1,""),"") | K8: =IFERROR(IF(VLOOKUP('Mini''s to Under 9'!$B8,$B$2:$C$9,2,FALSE)>=6,$B$1,""),"") | L8: =IFERROR(IF(VLOOKUP('Mini''s to Under 9'!$B8,$B$2:$C$9,2,FALSE)>=6,$B$1,""),"") | M8: =IFERROR(IF(VLOOKUP('Mini''s to Under 9'!$B8,$B$2:$C$9,2,FALSE)>=6,$B$1,""),"") | N8: =IFERROR(IF(VLOOKUP('Mini''s to Under 9'!$B8,$B$2:$C$9,2,FALSE)>=6,$B$1,""),"") | O8: =IFERROR(IF(VLOOKUP('Mini''s to Under 9'!$B8,$B$2:$C$9,2,FALSE)>=6,$B$1,""),"") | P8: =IFERROR(IF(VLOOKUP('Mini''s to Under 9'!$B8,$B$2:$C$9,2,FALSE)>=6,$B$1,""),"")
A9: Under 9 Boys Championship | B9: Under 9 Boys Championship | C9: 8 | D9: 60 | E9: 2016 & 2017 | F9: Reel, Heavy Jig & Traditional Set Dance | G9: =IFERROR(IF(VLOOKUP('Mini''s to Under 9'!$B9,$B$2:$C$9,2,FALSE)<>"","Reel",""),"") | H9: =IFERROR(IF(VLOOKUP('Mini''s to Under 9'!$B9,$B$2:$C$9,2,FALSE)=1,"",IF(VLOOKUP('Mini''s to Under 9'!$B9,$B$2:$C$9,2,FALSE)<=5,"Hop Jig","Heavy Jig")),"") | I9: =IFERROR(IF(AND(VLOOKUP('Mini''s to Under 9'!$B9,$B$2:$C$9,2,FALSE)>=3,VLOOKUP('Mini''s to Under 9'!$B9,$B$2:$C$9,2,FALSE)<=5),"Light Jig",""),"") | J9: =IFERROR(IF(VLOOKUP('Mini''s to Under 9'!$B9,$B$2:$C$9,2,FALSE)>=6,$B$1,""),"") | K9: =IFERROR(IF(VLOOKUP('Mini''s to Under 9'!$B9,$B$2:$C$9,2,FALSE)>=6,$B$1,""),"") | L9: =IFERROR(IF(VLOOKUP('Mini''s to Under 9'!$B9,$B$2:$C$9,2,FALSE)>=6,$B$1,""),"") | M9: =IFERROR(IF(VLOOKUP('Mini''s to Under 9'!$B9,$B$2:$C$9,2,FALSE)>=6,$B$1,""),"") | N9: =IFERROR(IF(VLOOKUP('Mini''s to Under 9'!$B9,$B$2:$C$9,2,FALSE)>=6,$B$1,""),"") | O9: =IFERROR(IF(VLOOKUP('Mini''s to Under 9'!$B9,$B$2:$C$9,2,FALSE)>=6,$B$1,""),"") | P9: =IFERROR(IF(VLOOKUP('Mini''s to Under 9'!$B9,$B$2:$C$9,2,FALSE)>=6,$B$1,""),"")
G10: =IFERROR(IF(VLOOKUP('Mini''s to Under 9'!$B10,$B$2:$C$9,2,FALSE)<>"","Reel",""),"") | H10: =IFERROR(IF(VLOOKUP('Mini''s to Under 9'!$B10,$B$2:$C$9,2,FALSE)=1,"",IF(VLOOKUP('Mini''s to Under 9'!$B10,$B$2:$C$9,2,FALSE)<=5,"Hop Jig","Heavy Jig")),"") | I10: =IFERROR(IF(AND(VLOOKUP('Mini''s to Under 9'!$B10,$B$2:$C$9,2,FALSE)>=3,VLOOKUP('Mini''s to Under 9'!$B10,$B$2:$C$9,2,FALSE)<=5),"Light Jig",""),"") | J10: =IFERROR(IF(VLOOKUP('Mini''s to Under 9'!$B10,$B$2:$C$9,2,FALSE)>=6,$B$1,""),"") | K10: =IFERROR(IF(VLOOKUP('Mini''s to Under 9'!$B10,$B$2:$C$9,2,FALSE)>=6,$B$1,""),"") | L10: =IFERROR(IF(VLOOKUP('Mini''s to Under 9'!$B10,$B$2:$C$9,2,FALSE)>=6,$B$1,""),"") | M10: =IFERROR(IF(VLOOKUP('Mini''s to Under 9'!$B10,$B$2:$C$9,2,FALSE)>=6,$B$1,""),"") | N10: =IFERROR(IF(VLOOKUP('Mini''s to Under 9'!$B10,$B$2:$C$9,2,FALSE)>=6,$B$1,""),"") | O10: =IFERROR(IF(VLOOKUP('Mini''s to Under 9'!$B10,$B$2:$C$9,2,FALSE)>=6,$B$1,""),"") | P10: =IFERROR(IF(VLOOKUP('Mini''s to Under 9'!$B10,$B$2:$C$9,2,FALSE)>=6,$B$1,""),"")
A11: Family Fee £160.00 Enter the total family fee on one of the family members and rest FF in fees enclosed. | G11: =IFERROR(IF(VLOOKUP('Mini''s to Under 9'!$B11,$B$2:$C$9,2,FALSE)<>"","Reel",""),"") | H11: =IFERROR(IF(VLOOKUP('Mini''s to Under 9'!$B11,$B$2:$C$9,2,FALSE)=1,"",IF(VLOOKUP('Mini''s to Under 9'!$B11,$B$2:$C$9,2,FALSE)<=5,"Hop Jig","Heavy Jig")),"") | I11: =IFERROR(IF(AND(VLOOKUP('Mini''s to Under 9'!$B11,$B$2:$C$9,2,FALSE)>=3,VLOOKUP('Mini''s to Under 9'!$B11,$B$2:$C$9,2,FALSE)<=5),"Light Jig",""),"") | J11: =IFERROR(IF(VLOOKUP('Mini''s to Under 9'!$B11,$B$2:$C$9,2,FALSE)>=6,$B$1,""),"") | K11: =IFERROR(IF(VLOOKUP('Mini''s to Under 9'!$B11,$B$2:$C$9,2,FALSE)>=6,$B$1,""),"") | L11: =IFERROR(IF(VLOOKUP('Mini''s to Under 9'!$B11,$B$2:$C$9,2,FALSE)>=6,$B$1,""),"") | M11: =IFERROR(IF(VLOOKUP('Mini''s to Under 9'!$B11,$B$2:$C$9,2,FALSE)>=6,$B$1,""),"") | N11: =IFERROR(IF(VLOOKUP('Mini''s to Under 9'!$B11,$B$2:$C$9,2,FALSE)>=6,$B$1,""),"") | O11: =IFERROR(IF(VLOOKUP('Mini''s to Under 9'!$B11,$B$2:$C$9,2,FALSE)>=6,$B$1,""),"") | P11: =IFERROR(IF(VLOOKUP('Mini''s to Under 9'!$B11,$B$2:$C$9,2,FALSE)>=6,$B$1,""),"")
G12: =IFERROR(IF(VLOOKUP('Mini''s to Under 9'!$B12,$B$2:$C$9,2,FALSE)<>"","Reel",""),"") | H12: =IFERROR(IF(VLOOKUP('Mini''s to Under 9'!$B12,$B$2:$C$9,2,FALSE)=1,"",IF(VLOOKUP('Mini''s to Under 9'!$B12,$B$2:$C$9,2,FALSE)<=5,"Hop Jig","Heavy Jig")),"") | I12: =IFERROR(IF(AND(VLOOKUP('Mini''s to Under 9'!$B12,$B$2:$C$9,2,FALSE)>=3,VLOOKUP('Mini''s to Under 9'!$B12,$B$2:$C$9,2,FALSE)<=5),"Light Jig",""),"") | J12: =IFERROR(IF(VLOOKUP('Mini''s to Under 9'!$B12,$B$2:$C$9,2,FALSE)>=6,$B$1,""),"") | K12: =IFERROR(IF(VLOOKUP('Mini''s to Under 9'!$B12,$B$2:$C$9,2,FALSE)>=6,$B$1,""),"") | L12: =IFERROR(IF(VLOOKUP('Mini''s to Under 9'!$B12,$B$2:$C$9,2,FALSE)>=6,$B$1,""),"") | M12: =IFERROR(IF(VLOOKUP('Mini''s to Under 9'!$B12,$B$2:$C$9,2,FALSE)>=6,$B$1,""),"") | N12: =IFERROR(IF(VLOOKUP('Mini''s to Under 9'!$B12,$B$2:$C$9,2,FALSE)>=6,$B$1,""),"") | O12: =IFERROR(IF(VLOOKUP('Mini''s to Under 9'!$B12,$B$2:$C$9,2,FALSE)>=6,$B$1,""),"") | P12: =IFERROR(IF(VLOOKUP('Mini''s to Under 9'!$B12,$B$2:$C$9,2,FALSE)>=6,$B$1,""),"")
A13: Traditional Set Dances Accepted | B13: Traditional Set Dances Accepted | G13: =IFERROR(IF(VLOOKUP('Mini''s to Under 9'!$B13,$B$2:$C$9,2,FALSE)<>"","Reel",""),"") | H13: =IFERROR(IF(VLOOKUP('Mini''s to Under 9'!$B13,$B$2:$C$9,2,FALSE)=1,"",IF(VLOOKUP('Mini''s to Under 9'!$B13,$B$2:$C$9,2,FALSE)<=5,"Hop Jig","Heavy Jig")),"") | I13: =IFERROR(IF(AND(VLOOKUP('Mini''s to Under 9'!$B13,$B$2:$C$9,2,FALSE)>=3,VLOOKUP('Mini''s to Under 9'!$B13,$B$2:$C$9,2,FALSE)<=5),"Light Jig",""),"") | J13: =IFERROR(IF(VLOOKUP('Mini''s to Under 9'!$B13,$B$2:$C$9,2,FALSE)>=6,$B$1,""),"") | K13: =IFERROR(IF(VLOOKUP('Mini''s to Under 9'!$B13,$B$2:$C$9,2,FALSE)>=6,$B$1,""),"") | L13: =IFERROR(IF(VLOOKUP('Mini''s to Under 9'!$B13,$B$2:$C$9,2,FALSE)>=6,$B$1,""),"") | M13: =IFERROR(IF(VLOOKUP('Mini''s to Under 9'!$B13,$B$2:$C$9,2,FALSE)>=6,$B$1,""),"") | N13: =IFERROR(IF(VLOOKUP('Mini''s to Under 9'!$B13,$B$2:$C$9,2,FALSE)>=6,$B$1,""),"") | O13: =IFERROR(IF(VLOOKUP('Mini''s to Under 9'!$B13,$B$2:$C$9,2,FALSE)>=6,$B$1,""),"") | P13: =IFERROR(IF(VLOOKUP('Mini''s to Under 9'!$B13,$B$2:$C$9,2,FALSE)>=6,$B$1,""),"")
A14: St.Patrick's Day- Speed 94 | B14: St.Patrick's Day- Speed 94 | G14: =IFERROR(IF(VLOOKUP('Mini''s to Under 9'!$B14,$B$2:$C$9,2,FALSE)<>"","Reel",""),"") | H14: =IFERROR(IF(VLOOKUP('Mini''s to Under 9'!$B14,$B$2:$C$9,2,FALSE)=1,"",IF(VLOOKUP('Mini''s to Under 9'!$B14,$B$2:$C$9,2,FALSE)<=5,"Hop Jig","Heavy Jig")),"") | I14: =IFERROR(IF(AND(VLOOKUP('Mini''s to Under 9'!$B14,$B$2:$C$9,2,FALSE)>=3,VLOOKUP('Mini''s to Under 9'!$B14,$B$2:$C$9,2,FALSE)<=5),"Light Jig",""),"") | J14: =IFERROR(IF(VLOOKUP('Mini''s to Under 9'!$B14,$B$2:$C$9,2,FALSE)>=6,$B$1,""),"") | K14: =IFERROR(IF(VLOOKUP('Mini''s to Under 9'!$B14,$B$2:$C$9,2,FALSE)>=6,$B$1,""),"") | L14: =IFERROR(IF(VLOOKUP('Mini''s to Under 9'!$B14,$B$2:$C$9,2,FALSE)>=6,$B$1,""),"") | M14: =IFERROR(IF(VLOOKUP('Mini''s to Under 9'!$B14,$B$2:$C$9,2,FALSE)>=6,$B$1,""),"") | N14: =IFERROR(IF(VLOOKUP('Mini''s to Under 9'!$B14,$B$2:$C$9,2,FALSE)>=6,$B$1,""),"") | O14: =IFERROR(IF(VLOOKUP('Mini''s to Under 9'!$B14,$B$2:$C$9,2,FALSE)>=6,$B$1,""),"") | P14: =IFERROR(IF(VLOOKUP('Mini''s to Under 9'!$B14,$B$2:$C$9,2,FALSE)>=6,$B$1,""),"")
A15: The Blackbird- Speed 144 | B15: The Blackbird- Speed 144 | G15: =IFERROR(IF(VLOOKUP('Mini''s to Under 9'!$B15,$B$2:$C$9,2,FALSE)<>"","Reel",""),"") | H15: =IFERROR(IF(VLOOKUP('Mini''s to Under 9'!$B15,$B$2:$C$9,2,FALSE)=1,"",IF(VLOOKUP('Mini''s to Under 9'!$B15,$B$2:$C$9,2,FALSE)<=5,"Hop Jig","Heavy Jig")),"") | I15: =IFERROR(IF(AND(VLOOKUP('Mini''s to Under 9'!$B15,$B$2:$C$9,2,FALSE)>=3,VLOOKUP('Mini''s to Under 9'!$B15,$B$2:$C$9,2,FALSE)<=5),"Light Jig",""),"") | J15: =IFERROR(IF(VLOOKUP('Mini''s to Under 9'!$B15,$B$2:$C$9,2,FALSE)>=6,$B$1,""),"") | K15: =IFERROR(IF(VLOOKUP('Mini''s to Under 9'!$B15,$B$2:$C$9,2,FALSE)>=6,$B$1,""),"") | L15: =IFERROR(IF(VLOOKUP('Mini''s to Under 9'!$B15,$B$2:$C$9,2,FALSE)>=6,$B$1,""),"") | M15: =IFERROR(IF(VLOOKUP('Mini''s to Under 9'!$B15,$B$2:$C$9,2,FALSE)>=6,$B$1,""),"") | N15: =IFERROR(IF(VLOOKUP('Mini''s to Under 9'!$B15,$B$2:$C$9,2,FALSE)>=6,$B$1,""),"") | O15: =IFERROR(IF(VLOOKUP('Mini''s to Under 9'!$B15,$B$2:$C$9,2,FALSE)>=6,$B$1,""),"") | P15: =IFERROR(IF(VLOOKUP('Mini''s to Under 9'!$B15,$B$2:$C$9,2,FALSE)>=6,$B$1,""),"")
A16: Job of Journey Work- Speed 138 | B16: Job of Journey Work- Speed 138 | G16: =IFERROR(IF(VLOOKUP('Mini''s to Under 9'!$B16,$B$2:$C$9,2,FALSE)<>"","Reel",""),"") | H16: =IFERROR(IF(VLOOKUP('Mini''s to Under 9'!$B16,$B$2:$C$9,2,FALSE)=1,"",IF(VLOOKUP('Mini''s to Under 9'!$B16,$B$2:$C$9,2,FALSE)<=5,"Hop Jig","Heavy Jig")),"") | I16: =IFERROR(IF(AND(VLOOKUP('Mini''s to Under 9'!$B16,$B$2:$C$9,2,FALSE)>=3,VLOOKUP('Mini''s to Under 9'!$B16,$B$2:$C$9,2,FALSE)<=5),"Light Jig",""),"") | J16: =IFERROR(IF(VLOOKUP('Mini''s to Under 9'!$B16,$B$2:$C$9,2,FALSE)>=6,$B$1,""),"") | K16: =IFERROR(IF(VLOOKUP('Mini''s to Under 9'!$B16,$B$2:$C$9,2,FALSE)>=6,$B$1,""),"") | L16: =IFERROR(IF(VLOOKUP('Mini''s to Under 9'!$B16,$B$2:$C$9,2,FALSE)>=6,$B$1,""),"") | M16: =IFERROR(IF(VLOOKUP('Mini''s to Under 9'!$B16,$B$2:$C$9,2,FALSE)>=6,$B$1,""),"") | N16: =IFERROR(IF(VLOOKUP('Mini''s to Under 9'!$B16,$B$2:$C$9,2,FALSE)>=6,$B$1,""),"") | O16: =IFERROR(IF(VLOOKUP('Mini''s to Under 9'!$B16,$B$2:$C$9,2,FALSE)>=6,$B$1,""),"") | P16: =IFERROR(IF(VLOOKUP('Mini''s to Under 9'!$B16,$B$2:$C$9,2,FALSE)>=6,$B$1,""),"")
A17: Jockey to the Fair- Speed 90 | B17: Jockey to the Fair- Speed 90 | G17: =IFERROR(IF(VLOOKUP('Mini''s to Under 9'!$B17,$B$2:$C$9,2,FALSE)<>"","Reel",""),"") | H17: =IFERROR(IF(VLOOKUP('Mini''s to Under 9'!$B17,$B$2:$C$9,2,FALSE)=1,"",IF(VLOOKUP('Mini''s to Under 9'!$B17,$B$2:$C$9,2,FALSE)<=5,"Hop Jig","Heavy Jig")),"") | I17: =IFERROR(IF(AND(VLOOKUP('Mini''s to Under 9'!$B17,$B$2:$C$9,2,FALSE)>=3,VLOOKUP('Mini''s to Under 9'!$B17,$B$2:$C$9,2,FALSE)<=5),"Light Jig",""),"") | J17: =IFERROR(IF(VLOOKUP('Mini''s to Under 9'!$B17,$B$2:$C$9,2,FALSE)>=6,$B$1,""),"") | K17: =IFERROR(IF(VLOOKUP('Mini''s to Under 9'!$B17,$B$2:$C$9,2,FALSE)>=6,$B$1,""),"") | L17: =IFERROR(IF(VLOOKUP('Mini''s to Under 9'!$B17,$B$2:$C$9,2,FALSE)>=6,$B$1,""),"") | M17: =IFERROR(IF(VLOOKUP('Mini''s to Under 9'!$B17,$B$2:$C$9,2,FALSE)>=6,$B$1,""),"") | N17: =IFERROR(IF(VLOOKUP('Mini''s to Under 9'!$B17,$B$2:$C$9,2,FALSE)>=6,$B$1,""),"") | O17: =IFERROR(IF(VLOOKUP('Mini''s to Under 9'!$B17,$B$2:$C$9,2,FALSE)>=6,$B$1,""),"") | P17: =IFERROR(IF(VLOOKUP('Mini''s to Under 9'!$B17,$B$2:$C$9,2,FALSE)>=6,$B$1,""),"")
A18: Three Sea Captains- Speed 96 | B18: Three Sea Captains- Speed 96 | G18: =IFERROR(IF(VLOOKUP('Mini''s to Under 9'!$B18,$B$2:$C$9,2,FALSE)<>"","Reel",""),"") | H18: =IFERROR(IF(VLOOKUP('Mini''s to Under 9'!$B18,$B$2:$C$9,2,FALSE)=1,"",IF(VLOOKUP('Mini''s to Under 9'!$B18,$B$2:$C$9,2,FALSE)<=5,"Hop Jig","Heavy Jig")),"") | I18: =IFERROR(IF(AND(VLOOKUP('Mini''s to Under 9'!$B18,$B$2:$C$9,2,FALSE)>=3,VLOOKUP('Mini''s to Under 9'!$B18,$B$2:$C$9,2,FALSE)<=5),"Light Jig",""),"") | J18: =IFERROR(IF(VLOOKUP('Mini''s to Under 9'!$B18,$B$2:$C$9,2,FALSE)>=6,$B$1,""),"") | K18: =IFERROR(IF(VLOOKUP('Mini''s to Under 9'!$B18,$B$2:$C$9,2,FALSE)>=6,$B$1,""),"") | L18: =IFERROR(IF(VLOOKUP('Mini''s to Under 9'!$B18,$B$2:$C$9,2,FALSE)>=6,$B$1,""),"") | M18: =IFERROR(IF(VLOOKUP('Mini''s to Under 9'!$B18,$B$2:$C$9,2,FALSE)>=6,$B$1,""),"") | N18: =IFERROR(IF(VLOOKUP('Mini''s to Under 9'!$B18,$B$2:$C$9,2,FALSE)>=6,$B$1,""),"") | O18: =IFERROR(IF(VLOOKUP('Mini''s to Under 9'!$B18,$B$2:$C$9,2,FALSE)>=6,$B$1,""),"") | P18: =IFERROR(IF(VLOOKUP('Mini''s to Under 9'!$B18,$B$2:$C$9,2,FALSE)>=6,$B$1,""),"")
A19: Garden of Daises- Speed 138 | B19: Garden of Daises- Speed 138 | G19: =IFERROR(IF(VLOOKUP('Mini''s to Under 9'!$B19,$B$2:$C$9,2,FALSE)<>"","Reel",""),"") | H19: =IFERROR(IF(VLOOKUP('Mini''s to Under 9'!$B19,$B$2:$C$9,2,FALSE)=1,"",IF(VLOOKUP('Mini''s to Under 9'!$B19,$B$2:$C$9,2,FALSE)<=5,"Hop Jig","Heavy Jig")),"") | I19: =IFERROR(IF(AND(VLOOKUP('Mini''s to Under 9'!$B19,$B$2:$C$9,2,FALSE)>=3,VLOOKUP('Mini''s to Under 9'!$B19,$B$2:$C$9,2,FALSE)<=5),"Light Jig",""),"") | J19: =IFERROR(IF(VLOOKUP('Mini''s to Under 9'!$B19,$B$2:$C$9,2,FALSE)>=6,$B$1,""),"") | K19: =IFERROR(IF(VLOOKUP('Mini''s to Under 9'!$B19,$B$2:$C$9,2,FALSE)>=6,$B$1,""),"") | L19: =IFERROR(IF(VLOOKUP('Mini''s to Under 9'!$B19,$B$2:$C$9,2,FALSE)>=6,$B$1,""),"") | M19: =IFERROR(IF(VLOOKUP('Mini''s to Under 9'!$B19,$B$2:$C$9,2,FALSE)>=6,$B$1,""),"") | N19: =IFERROR(IF(VLOOKUP('Mini''s to Under 9'!$B19,$B$2:$C$9,2,FALSE)>=6,$B$1,""),"") | O19: =IFERROR(IF(VLOOKUP('Mini''s to Under 9'!$B19,$B$2:$C$9,2,FALSE)>=6,$B$1,""),"") | P19: =IFERROR(IF(VLOOKUP('Mini''s to Under 9'!$B19,$B$2:$C$9,2,FALSE)>=6,$B$1,""),"")
A20: King of the Fairies- Speed 130 | B20: King of the Fairies- Speed 130 | G20: =IFERROR(IF(VLOOKUP('Mini''s to Under 9'!$B20,$B$2:$C$9,2,FALSE)<>"","Reel",""),"") | H20: =IFERROR(IF(VLOOKUP('Mini''s to Under 9'!$B20,$B$2:$C$9,2,FALSE)=1,"",IF(VLOOKUP('Mini''s to Under 9'!$B20,$B$2:$C$9,2,FALSE)<=5,"Hop Jig","Heavy Jig")),"") | I20: =IFERROR(IF(AND(VLOOKUP('Mini''s to Under 9'!$B20,$B$2:$C$9,2,FALSE)>=3,VLOOKUP('Mini''s to Under 9'!$B20,$B$2:$C$9,2,FALSE)<=5),"Light Jig",""),"") | J20: =IFERROR(IF(VLOOKUP('Mini''s to Under 9'!$B20,$B$2:$C$9,2,FALSE)>=6,$B$1,""),"") | K20: =IFERROR(IF(VLOOKUP('Mini''s to Under 9'!$B20,$B$2:$C$9,2,FALSE)>=6,$B$1,""),"") | L20: =IFERROR(IF(VLOOKUP('Mini''s to Under 9'!$B20,$B$2:$C$9,2,FALSE)>=6,$B$1,""),"") | M20: =IFERROR(IF(VLOOKUP('Mini''s to Under 9'!$B20,$B$2:$C$9,2,FALSE)>=6,$B$1,""),"") | N20: =IFERROR(IF(VLOOKUP('Mini''s to Under 9'!$B20,$B$2:$C$9,2,FALSE)>=6,$B$1,""),"") | O20: =IFERROR(IF(VLOOKUP('Mini''s to Under 9'!$B20,$B$2:$C$9,2,FALSE)>=6,$B$1,""),"") | P20: =IFERROR(IF(VLOOKUP('Mini''s to Under 9'!$B20,$B$2:$C$9,2,FALSE)>=6,$B$1,""),"")
G21: =IFERROR(IF(VLOOKUP('Mini''s to Under 9'!$B21,$B$2:$C$9,2,FALSE)<>"","Reel",""),"") | H21: =IFERROR(IF(VLOOKUP('Mini''s to Under 9'!$B21,$B$2:$C$9,2,FALSE)=1,"",IF(VLOOKUP('Mini''s to Under 9'!$B21,$B$2:$C$9,2,FALSE)<=5,"Hop Jig","Heavy Jig")),"") | I21: =IFERROR(IF(AND(VLOOKUP('Mini''s to Under 9'!$B21,$B$2:$C$9,2,FALSE)>=3,VLOOKUP('Mini''s to Under 9'!$B21,$B$2:$C$9,2,FALSE)<=5),"Light Jig",""),"") | J21: =IFERROR(IF(VLOOKUP('Mini''s to Under 9'!$B21,$B$2:$C$9,2,FALSE)>=6,$B$1,""),"") | K21: =IFERROR(IF(VLOOKUP('Mini''s to Under 9'!$B21,$B$2:$C$9,2,FALSE)>=6,$B$1,""),"") | L21: =IFERROR(IF(VLOOKUP('Mini''s to Under 9'!$B21,$B$2:$C$9,2,FALSE)>=6,$B$1,""),"") | M21: =IFERROR(IF(VLOOKUP('Mini''s to Under 9'!$B21,$B$2:$C$9,2,FALSE)>=6,$B$1,""),"") | N21: =IFERROR(IF(VLOOKUP('Mini''s to Under 9'!$B21,$B$2:$C$9,2,FALSE)>=6,$B$1,""),"") | O21: =IFERROR(IF(VLOOKUP('Mini''s to Under 9'!$B21,$B$2:$C$9,2,FALSE)>=6,$B$1,""),"") | P21: =IFERROR(IF(VLOOKUP('Mini''s to Under 9'!$B21,$B$2:$C$9,2,FALSE)>=6,$B$1,""),"")
G22: =IFERROR(IF(VLOOKUP('Mini''s to Under 9'!$B22,$B$2:$C$9,2,FALSE)<>"","Reel",""),"") | H22: =IFERROR(IF(VLOOKUP('Mini''s to Under 9'!$B22,$B$2:$C$9,2,FALSE)=1,"",IF(VLOOKUP('Mini''s to Under 9'!$B22,$B$2:$C$9,2,FALSE)<=5,"Hop Jig","Heavy Jig")),"") | I22: =IFERROR(IF(AND(VLOOKUP('Mini''s to Under 9'!$B22,$B$2:$C$9,2,FALSE)>=3,VLOOKUP('Mini''s to Under 9'!$B22,$B$2:$C$9,2,FALSE)<=5),"Light Jig",""),"") | J22: =IFERROR(IF(VLOOKUP('Mini''s to Under 9'!$B22,$B$2:$C$9,2,FALSE)>=6,$B$1,""),"") | K22: =IFERROR(IF(VLOOKUP('Mini''s to Under 9'!$B22,$B$2:$C$9,2,FALSE)>=6,$B$1,""),"") | L22: =IFERROR(IF(VLOOKUP('Mini''s to Under 9'!$B22,$B$2:$C$9,2,FALSE)>=6,$B$1,""),"") | M22: =IFERROR(IF(VLOOKUP('Mini''s to Under 9'!$B22,$B$2:$C$9,2,FALSE)>=6,$B$1,""),"") | N22: =IFERROR(IF(VLOOKUP('Mini''s to Under 9'!$B22,$B$2:$C$9,2,FALSE)>=6,$B$1,""),"") | O22: =IFERROR(IF(VLOOKUP('Mini''s to Under 9'!$B22,$B$2:$C$9,2,FALSE)>=6,$B$1,""),"") | P22: =IFERROR(IF(VLOOKUP('Mini''s to Under 9'!$B22,$B$2:$C$9,2,FALSE)>=6,$B$1,""),"")
G23: =IFERROR(IF(VLOOKUP('Mini''s to Under 9'!$B23,$B$2:$C$9,2,FALSE)<>"","Reel",""),"") | H23: =IFERROR(IF(VLOOKUP('Mini''s to Under 9'!$B23,$B$2:$C$9,2,FALSE)=1,"",IF(VLOOKUP('Mini''s to Under 9'!$B23,$B$2:$C$9,2,FALSE)<=5,"Hop Jig","Heavy Jig")),"") | I23: =IFERROR(IF(AND(VLOOKUP('Mini''s to Under 9'!$B23,$B$2:$C$9,2,FALSE)>=3,VLOOKUP('Mini''s to Under 9'!$B23,$B$2:$C$9,2,FALSE)<=5),"Light Jig",""),"") | J23: =IFERROR(IF(VLOOKUP('Mini''s to Under 9'!$B23,$B$2:$C$9,2,FALSE)>=6,$B$1,""),"") | K23: =IFERROR(IF(VLOOKUP('Mini''s to Under 9'!$B23,$B$2:$C$9,2,FALSE)>=6,$B$1,""),"") | L23: =IFERROR(IF(VLOOKUP('Mini''s to Under 9'!$B23,$B$2:$C$9,2,FALSE)>=6,$B$1,""),"") | M23: =IFERROR(IF(VLOOKUP('Mini''s to Under 9'!$B23,$B$2:$C$9,2,FALSE)>=6,$B$1,""),"") | N23: =IFERROR(IF(VLOOKUP('Mini''s to Under 9'!$B23,$B$2:$C$9,2,FALSE)>=6,$B$1,""),"") | O23: =IFERROR(IF(VLOOKUP('Mini''s to Under 9'!$B23,$B$2:$C$9,2,FALSE)>=6,$B$1,""),"") | P23: =IFERROR(IF(VLOOKUP('Mini''s to Under 9'!$B23,$B$2:$C$9,2,FALSE)>=6,$B$1,""),"")
G24: =IFERROR(IF(VLOOKUP('Mini''s to Under 9'!$B24,$B$2:$C$9,2,FALSE)<>"","Reel",""),"") | H24: =IFERROR(IF(VLOOKUP('Mini''s to Under 9'!$B24,$B$2:$C$9,2,FALSE)=1,"",IF(VLOOKUP('Mini''s to Under 9'!$B24,$B$2:$C$9,2,FALSE)<=5,"Hop Jig","Heavy Jig")),"") | I24: =IFERROR(IF(AND(VLOOKUP('Mini''s to Under 9'!$B24,$B$2:$C$9,2,FALSE)>=3,VLOOKUP('Mini''s to Under 9'!$B24,$B$2:$C$9,2,FALSE)<=5),"Light Jig",""),"") | J24: =IFERROR(IF(VLOOKUP('Mini''s to Under 9'!$B24,$B$2:$C$9,2,FALSE)>=6,$B$1,""),"") | K24: =IFERROR(IF(VLOOKUP('Mini''s to Under 9'!$B24,$B$2:$C$9,2,FALSE)>=6,$B$1,""),"") | L24: =IFERROR(IF(VLOOKUP('Mini''s to Under 9'!$B24,$B$2:$C$9,2,FALSE)>=6,$B$1,""),"") | M24: =IFERROR(IF(VLOOKUP('Mini''s to Under 9'!$B24,$B$2:$C$9,2,FALSE)>=6,$B$1,""),"") | N24: =IFERROR(IF(VLOOKUP('Mini''s to Under 9'!$B24,$B$2:$C$9,2,FALSE)>=6,$B$1,""),"") | O24: =IFERROR(IF(VLOOKUP('Mini''s to Under 9'!$B24,$B$2:$C$9,2,FALSE)>=6,$B$1,""),"") | P24: =IFERROR(IF(VLOOKUP('Mini''s to Under 9'!$B24,$B$2:$C$9,2,FALSE)>=6,$B$1,""),"")
G25: =IFERROR(IF(VLOOKUP('Mini''s to Under 9'!$B25,$B$2:$C$9,2,FALSE)<>"","Reel",""),"") | H25: =IFERROR(IF(VLOOKUP('Mini''s to Under 9'!$B25,$B$2:$C$9,2,FALSE)=1,"",IF(VLOOKUP('Mini''s to Under 9'!$B25,$B$2:$C$9,2,FALSE)<=5,"Hop Jig","Heavy Jig")),"") | I25: =IFERROR(IF(AND(VLOOKUP('Mini''s to Under 9'!$B25,$B$2:$C$9,2,FALSE)>=3,VLOOKUP('Mini''s to Under 9'!$B25,$B$2:$C$9,2,FALSE)<=5),"Light Jig",""),"") | J25: =IFERROR(IF(VLOOKUP('Mini''s to Under 9'!$B25,$B$2:$C$9,2,FALSE)>=6,$B$1,""),"") | K25: =IFERROR(IF(VLOOKUP('Mini''s to Under 9'!$B25,$B$2:$C$9,2,FALSE)>=6,$B$1,""),"") | L25: =IFERROR(IF(VLOOKUP('Mini''s to Under 9'!$B25,$B$2:$C$9,2,FALSE)>=6,$B$1,""),"") | M25: =IFERROR(IF(VLOOKUP('Mini''s to Under 9'!$B25,$B$2:$C$9,2,FALSE)>=6,$B$1,""),"") | N25: =IFERROR(IF(VLOOKUP('Mini''s to Under 9'!$B25,$B$2:$C$9,2,FALSE)>=6,$B$1,""),"") | O25: =IFERROR(IF(VLOOKUP('Mini''s to Under 9'!$B25,$B$2:$C$9,2,FALSE)>=6,$B$1,""),"") | P25: =IFERROR(IF(VLOOKUP('Mini''s to Under 9'!$B25,$B$2:$C$9,2,FALSE)>=6,$B$1,""),"")
G26: =IFERROR(IF(VLOOKUP('Mini''s to Under 9'!$B26,$B$2:$C$9,2,FALSE)<>"","Reel",""),"") | H26: =IFERROR(IF(VLOOKUP('Mini''s to Under 9'!$B26,$B$2:$C$9,2,FALSE)=1,"",IF(VLOOKUP('Mini''s to Under 9'!$B26,$B$2:$C$9,2,FALSE)<=5,"Hop Jig","Heavy Jig")),"") | I26: =IFERROR(IF(AND(VLOOKUP('Mini''s to Under 9'!$B26,$B$2:$C$9,2,FALSE)>=3,VLOOKUP('Mini''s to Under 9'!$B26,$B$2:$C$9,2,FALSE)<=5),"Light Jig",""),"") | J26: =IFERROR(IF(VLOOKUP('Mini''s to Under 9'!$B26,$B$2:$C$9,2,FALSE)>=6,$B$1,""),"") | K26: =IFERROR(IF(VLOOKUP('Mini''s to Under 9'!$B26,$B$2:$C$9,2,FALSE)>=6,$B$1,""),"") | L26: =IFERROR(IF(VLOOKUP('Mini''s to Under 9'!$B26,$B$2:$C$9,2,FALSE)>=6,$B$1,""),"") | M26: =IFERROR(IF(VLOOKUP('Mini''s to Under 9'!$B26,$B$2:$C$9,2,FALSE)>=6,$B$1,""),"") | N26: =IFERROR(IF(VLOOKUP('Mini''s to Under 9'!$B26,$B$2:$C$9,2,FALSE)>=6,$B$1,""),"") | O26: =IFERROR(IF(VLOOKUP('Mini''s to Under 9'!$B26,$B$2:$C$9,2,FALSE)>=6,$B$1,""),"") | P26: =IFERROR(IF(VLOOKUP('Mini''s to Under 9'!$B26,$B$2:$C$9,2,FALSE)>=6,$B$1,""),"")
G27: =IFERROR(IF(VLOOKUP('Mini''s to Under 9'!$B27,$B$2:$C$9,2,FALSE)<>"","Reel",""),"") | H27: =IFERROR(IF(VLOOKUP('Mini''s to Under 9'!$B27,$B$2:$C$9,2,FALSE)=1,"",IF(VLOOKUP('Mini''s to Under 9'!$B27,$B$2:$C$9,2,FALSE)<=5,"Hop Jig","Heavy Jig")),"") | I27: =IFERROR(IF(AND(VLOOKUP('Mini''s to Under 9'!$B27,$B$2:$C$9,2,FALSE)>=3,VLOOKUP('Mini''s to Under 9'!$B27,$B$2:$C$9,2,FALSE)<=5),"Light Jig",""),"") | J27: =IFERROR(IF(VLOOKUP('Mini''s to Under 9'!$B27,$B$2:$C$9,2,FALSE)>=6,$B$1,""),"") | K27: =IFERROR(IF(VLOOKUP('Mini''s to Under 9'!$B27,$B$2:$C$9,2,FALSE)>=6,$B$1,""),"") | L27: =IFERROR(IF(VLOOKUP('Mini''s to Under 9'!$B27,$B$2:$C$9,2,FALSE)>=6,$B$1,""),"") | M27: =IFERROR(IF(VLOOKUP('Mini''s to Under 9'!$B27,$B$2:$C$9,2,FALSE)>=6,$B$1,""),"") | N27: =IFERROR(IF(VLOOKUP('Mini''s to Under 9'!$B27,$B$2:$C$9,2,FALSE)>=6,$B$1,""),"") | O27: =IFERROR(IF(VLOOKUP('Mini''s to Under 9'!$B27,$B$2:$C$9,2,FALSE)>=6,$B$1,""),"") | P27: =IFERROR(IF(VLOOKUP('Mini''s to Under 9'!$B27,$B$2:$C$9,2,FALSE)>=6,$B$1,""),"")
G28: =IFERROR(IF(VLOOKUP('Mini''s to Under 9'!$B28,$B$2:$C$9,2,FALSE)<>"","Reel",""),"") | H28: =IFERROR(IF(VLOOKUP('Mini''s to Under 9'!$B28,$B$2:$C$9,2,FALSE)=1,"",IF(VLOOKUP('Mini''s to Under 9'!$B28,$B$2:$C$9,2,FALSE)<=5,"Hop Jig","Heavy Jig")),"") | I28: =IFERROR(IF(AND(VLOOKUP('Mini''s to Under 9'!$B28,$B$2:$C$9,2,FALSE)>=3,VLOOKUP('Mini''s to Under 9'!$B28,$B$2:$C$9,2,FALSE)<=5),"Light Jig",""),"") | J28: =IFERROR(IF(VLOOKUP('Mini''s to Under 9'!$B28,$B$2:$C$9,2,FALSE)>=6,$B$1,""),"") | K28: =IFERROR(IF(VLOOKUP('Mini''s to Under 9'!$B28,$B$2:$C$9,2,FALSE)>=6,$B$1,""),"") | L28: =IFERROR(IF(VLOOKUP('Mini''s to Under 9'!$B28,$B$2:$C$9,2,FALSE)>=6,$B$1,""),"") | M28: =IFERROR(IF(VLOOKUP('Mini''s to Under 9'!$B28,$B$2:$C$9,2,FALSE)>=6,$B$1,""),"") | N28: =IFERROR(IF(VLOOKUP('Mini''s to Under 9'!$B28,$B$2:$C$9,2,FALSE)>=6,$B$1,""),"") | O28: =IFERROR(IF(VLOOKUP('Mini''s to Under 9'!$B28,$B$2:$C$9,2,FALSE)>=6,$B$1,""),"") | P28: =IFERROR(IF(VLOOKUP('Mini''s to Under 9'!$B28,$B$2:$C$9,2,FALSE)>=6,$B$1,""),"")
G29: =IFERROR(IF(VLOOKUP('Mini''s to Under 9'!$B29,$B$2:$C$9,2,FALSE)<>"","Reel",""),"") | H29: =IFERROR(IF(VLOOKUP('Mini''s to Under 9'!$B29,$B$2:$C$9,2,FALSE)=1,"",IF(VLOOKUP('Mini''s to Under 9'!$B29,$B$2:$C$9,2,FALSE)<=5,"Hop Jig","Heavy Jig")),"") | I29: =IFERROR(IF(AND(VLOOKUP('Mini''s to Under 9'!$B29,$B$2:$C$9,2,FALSE)>=3,VLOOKUP('Mini''s to Under 9'!$B29,$B$2:$C$9,2,FALSE)<=5),"Light Jig",""),"") | J29: =IFERROR(IF(VLOOKUP('Mini''s to Under 9'!$B29,$B$2:$C$9,2,FALSE)>=6,$B$1,""),"") | K29: =IFERROR(IF(VLOOKUP('Mini''s to Under 9'!$B29,$B$2:$C$9,2,FALSE)>=6,$B$1,""),"") | L29: =IFERROR(IF(VLOOKUP('Mini''s to Under 9'!$B29,$B$2:$C$9,2,FALSE)>=6,$B$1,""),"") | M29: =IFERROR(IF(VLOOKUP('Mini''s to Under 9'!$B29,$B$2:$C$9,2,FALSE)>=6,$B$1,""),"") | N29: =IFERROR(IF(VLOOKUP('Mini''s to Under 9'!$B29,$B$2:$C$9,2,FALSE)>=6,$B$1,""),"") | O29: =IFERROR(IF(VLOOKUP('Mini''s to Under 9'!$B29,$B$2:$C$9,2,FALSE)>=6,$B$1,""),"") | P29: =IFERROR(IF(VLOOKUP('Mini''s to Under 9'!$B29,$B$2:$C$9,2,FALSE)>=6,$B$1,""),"")
G30: =IFERROR(IF(VLOOKUP('Mini''s to Under 9'!$B30,$B$2:$C$9,2,FALSE)<>"","Reel",""),"") | H30: =IFERROR(IF(VLOOKUP('Mini''s to Under 9'!$B30,$B$2:$C$9,2,FALSE)=1,"",IF(VLOOKUP('Mini''s to Under 9'!$B30,$B$2:$C$9,2,FALSE)<=5,"Hop Jig","Heavy Jig")),"") | I30: =IFERROR(IF(AND(VLOOKUP('Mini''s to Under 9'!$B30,$B$2:$C$9,2,FALSE)>=3,VLOOKUP('Mini''s to Under 9'!$B30,$B$2:$C$9,2,FALSE)<=5),"Light Jig",""),"") | J30: =IFERROR(IF(VLOOKUP('Mini''s to Under 9'!$B30,$B$2:$C$9,2,FALSE)>=6,$B$1,""),"") | K30: =IFERROR(IF(VLOOKUP('Mini''s to Under 9'!$B30,$B$2:$C$9,2,FALSE)>=6,$B$1,""),"") | L30: =IFERROR(IF(VLOOKUP('Mini''s to Under 9'!$B30,$B$2:$C$9,2,FALSE)>=6,$B$1,""),"") | M30: =IFERROR(IF(VLOOKUP('Mini''s to Under 9'!$B30,$B$2:$C$9,2,FALSE)>=6,$B$1,""),"") | N30: =IFERROR(IF(VLOOKUP('Mini''s to Under 9'!$B30,$B$2:$C$9,2,FALSE)>=6,$B$1,""),"") | O30: =IFERROR(IF(VLOOKUP('Mini''s to Under 9'!$B30,$B$2:$C$9,2,FALSE)>=6,$B$1,""),"") | P30: =IFERROR(IF(VLOOKUP('Mini''s to Under 9'!$B30,$B$2:$C$9,2,FALSE)>=6,$B$1,""),"")
G31: =IFERROR(IF(VLOOKUP('Mini''s to Under 9'!$B31,$B$2:$C$9,2,FALSE)<>"","Reel",""),"") | H31: =IFERROR(IF(VLOOKUP('Mini''s to Under 9'!$B31,$B$2:$C$9,2,FALSE)=1,"",IF(VLOOKUP('Mini''s to Under 9'!$B31,$B$2:$C$9,2,FALSE)<=5,"Hop Jig","Heavy Jig")),"") | I31: =IFERROR(IF(AND(VLOOKUP('Mini''s to Under 9'!$B31,$B$2:$C$9,2,FALSE)>=3,VLOOKUP('Mini''s to Under 9'!$B31,$B$2:$C$9,2,FALSE)<=5),"Light Jig",""),"") | J31: =IFERROR(IF(VLOOKUP('Mini''s to Under 9'!$B31,$B$2:$C$9,2,FALSE)>=6,$B$1,""),"") | K31: =IFERROR(IF(VLOOKUP('Mini''s to Under 9'!$B31,$B$2:$C$9,2,FALSE)>=6,$B$1,""),"") | L31: =IFERROR(IF(VLOOKUP('Mini''s to Under 9'!$B31,$B$2:$C$9,2,FALSE)>=6,$B$1,""),"") | M31: =IFERROR(IF(VLOOKUP('Mini''s to Under 9'!$B31,$B$2:$C$9,2,FALSE)>=6,$B$1,""),"") | N31: =IFERROR(IF(VLOOKUP('Mini''s to Under 9'!$B31,$B$2:$C$9,2,FALSE)>=6,$B$1,""),"") | O31: =IFERROR(IF(VLOOKUP('Mini''s to Under 9'!$B31,$B$2:$C$9,2,FALSE)>=6,$B$1,""),"") | P31: =IFERROR(IF(VLOOKUP('Mini''s to Under 9'!$B31,$B$2:$C$9,2,FALSE)>=6,$B$1,""),"")
G32: =IFERROR(IF(VLOOKUP('Mini''s to Under 9'!$B32,$B$2:$C$9,2,FALSE)<>"","Reel",""),"") | H32: =IFERROR(IF(VLOOKUP('Mini''s to Under 9'!$B32,$B$2:$C$9,2,FALSE)=1,"",IF(VLOOKUP('Mini''s to Under 9'!$B32,$B$2:$C$9,2,FALSE)<=5,"Hop Jig","Heavy Jig")),"") | I32: =IFERROR(IF(AND(VLOOKUP('Mini''s to Under 9'!$B32,$B$2:$C$9,2,FALSE)>=3,VLOOKUP('Mini''s to Under 9'!$B32,$B$2:$C$9,2,FALSE)<=5),"Light Jig",""),"") | J32: =IFERROR(IF(VLOOKUP('Mini''s to Under 9'!$B32,$B$2:$C$9,2,FALSE)>=6,$B$1,""),"") | K32: =IFERROR(IF(VLOOKUP('Mini''s to Under 9'!$B32,$B$2:$C$9,2,FALSE)>=6,$B$1,""),"") | L32: =IFERROR(IF(VLOOKUP('Mini''s to Under 9'!$B32,$B$2:$C$9,2,FALSE)>=6,$B$1,""),"") | M32: =IFERROR(IF(VLOOKUP('Mini''s to Under 9'!$B32,$B$2:$C$9,2,FALSE)>=6,$B$1,""),"") | N32: =IFERROR(IF(VLOOKUP('Mini''s to Under 9'!$B32,$B$2:$C$9,2,FALSE)>=6,$B$1,""),"") | O32: =IFERROR(IF(VLOOKUP('Mini''s to Under 9'!$B32,$B$2:$C$9,2,FALSE)>=6,$B$1,""),"") | P32: =IFERROR(IF(VLOOKUP('Mini''s to Under 9'!$B32,$B$2:$C$9,2,FALSE)>=6,$B$1,""),"")
G33: =IFERROR(IF(VLOOKUP('Mini''s to Under 9'!$B33,$B$2:$C$9,2,FALSE)<>"","Reel",""),"") | H33: =IFERROR(IF(VLOOKUP('Mini''s to Under 9'!$B33,$B$2:$C$9,2,FALSE)=1,"",IF(VLOOKUP('Mini''s to Under 9'!$B33,$B$2:$C$9,2,FALSE)<=5,"Hop Jig","Heavy Jig")),"") | I33: =IFERROR(IF(AND(VLOOKUP('Mini''s to Under 9'!$B33,$B$2:$C$9,2,FALSE)>=3,VLOOKUP('Mini''s to Under 9'!$B33,$B$2:$C$9,2,FALSE)<=5),"Light Jig",""),"") | J33: =IFERROR(IF(VLOOKUP('Mini''s to Under 9'!$B33,$B$2:$C$9,2,FALSE)>=6,$B$1,""),"") | K33: =IFERROR(IF(VLOOKUP('Mini''s to Under 9'!$B33,$B$2:$C$9,2,FALSE)>=6,$B$1,""),"") | L33: =IFERROR(IF(VLOOKUP('Mini''s to Under 9'!$B33,$B$2:$C$9,2,FALSE)>=6,$B$1,""),"") | M33: =IFERROR(IF(VLOOKUP('Mini''s to Under 9'!$B33,$B$2:$C$9,2,FALSE)>=6,$B$1,""),"") | N33: =IFERROR(IF(VLOOKUP('Mini''s to Under 9'!$B33,$B$2:$C$9,2,FALSE)>=6,$B$1,""),"") | O33: =IFERROR(IF(VLOOKUP('Mini''s to Under 9'!$B33,$B$2:$C$9,2,FALSE)>=6,$B$1,""),"") | P33: =IFERROR(IF(VLOOKUP('Mini''s to Under 9'!$B33,$B$2:$C$9,2,FALSE)>=6,$B$1,""),"")
A55: Under 10 Upwards | C55: Prelim from Under 10 - Under 15 only.
A56: Dance | B56: Bars
A57: Reel | B57: 48 | C57: Under 10 Age Group - Jig Set Dance only | H57: Entry Type 1 | I57: Entry Type 2
A58: Slip Jig | B58: 40 | E58: =IF('Qualifying Ages'!$B4<>"","Championship","") | F58: =IFERROR(IF(AND(INDEX($C$63:$C$87,MATCH('Qualifying Ages'!$B4,$D$63:$D$87,0))>=9,INDEX($C$63:$C$87,MATCH('Qualifying Ages'!$B4,$D$63:$D$87,0))<=14),"Prelim",""),"") | H58: =IF('Qualifying Ages'!$B4<>"","Championship","") | I58: =IFERROR(IF(AND(INDEX($C$63:$C$87,MATCH('Qualifying Ages'!$B4,$D$63:$D$87,0))>=9,INDEX($C$63:$C$87,MATCH('Qualifying Ages'!$B4,$D$63:$D$87,0))<=14),"Prelim",""),"")
A59: Heavy Jig | B59: 48 | C59: Family Fee Enter £160.00 on one of the family members and rest "FF" on fees enclosed. | H59: =IF('Qualifying Ages'!$B5<>"","Championship","") | I59: =IFERROR(IF(AND(INDEX($C$63:$C$87,MATCH('Qualifying Ages'!$B5,$D$63:$D$87,0))>=9,INDEX($C$63:$C$87,MATCH('Qualifying Ages'!$B5,$D$63:$D$87,0))<=14),"Prelim",""),"")
A60: Hornpipe | B60: 40 | E60: =IF('Qualifying Ages'!$B6<>"","Championship","") | F60: =IFERROR(IF(AND(INDEX($C$63:$C$87,MATCH('Qualifying Ages'!$B6,$D$63:$D$87,0))>=9,INDEX($C$63:$C$87,MATCH('Qualifying Ages'!$B6,$D$63:$D$87,0))<=14),"Prelim",""),"") | H60: =IF('Qualifying Ages'!$B6<>"","Championship","") | I60: =IFERROR(IF(AND(INDEX($C$63:$C$87,MATCH('Qualifying Ages'!$B6,$D$63:$D$87,0))>=9,INDEX($C$63:$C$87,MATCH('Qualifying Ages'!$B6,$D$63:$D$87,0))<=14),"Prelim",""),"")
E61: =IF('Qualifying Ages'!$B7<>"","Championship","") | F61: =IFERROR(IF(AND(INDEX($C$63:$C$87,MATCH('Qualifying Ages'!$B7,$D$63:$D$87,0))>=9,INDEX($C$63:$C$87,MATCH('Qualifying Ages'!$B7,$D$63:$D$87,0))<=14),"Prelim",""),"") | H61: =IF('Qualifying Ages'!$B7<>"","Championship","") | I61: =IFERROR(IF(AND(INDEX($C$63:$C$87,MATCH('Qualifying Ages'!$B7,$D$63:$D$87,0))>=9,INDEX($C$63:$C$87,MATCH('Qualifying Ages'!$B7,$D$63:$D$87,0))<=14),"Prelim",""),"")
...
